BEGIN:VCALENDAR
VERSION:2.0
PRODID:-//RMHC Charleston - ECPv6.15.20//NONSGML v1.0//EN
CALSCALE:GREGORIAN
METHOD:PUBLISH
X-ORIGINAL-URL:https://www.rmhcharleston.org
X-WR-CALDESC:Events for RMHC Charleston
REFRESH-INTERVAL;VALUE=DURATION:PT1H
X-Robots-Tag:noindex
X-PUBLISHED-TTL:PT1H
BEGIN:VTIMEZONE
TZID:America/Chicago
BEGIN:DAYLIGHT
TZOFFSETFROM:-0600
TZOFFSETTO:-0500
TZNAME:CDT
DTSTART:20240310T080000
END:DAYLIGHT
BEGIN:STANDARD
TZOFFSETFROM:-0500
TZOFFSETTO:-0600
TZNAME:CST
DTSTART:20241103T070000
END:STANDARD
BEGIN:DAYLIGHT
TZOFFSETFROM:-0600
TZOFFSETTO:-0500
TZNAME:CDT
DTSTART:20250309T080000
END:DAYLIGHT
BEGIN:STANDARD
TZOFFSETFROM:-0500
TZOFFSETTO:-0600
TZNAME:CST
DTSTART:20251102T070000
END:STANDARD
BEGIN:DAYLIGHT
TZOFFSETFROM:-0600
TZOFFSETTO:-0500
TZNAME:CDT
DTSTART:20260308T080000
END:DAYLIGHT
BEGIN:STANDARD
TZOFFSETFROM:-0500
TZOFFSETTO:-0600
TZNAME:CST
DTSTART:20261101T070000
END:STANDARD
END:VTIMEZONE
BEGIN:VEVENT
DTSTART;TZID=America/Chicago:20250722T070000
DTEND;TZID=America/Chicago:20250722T080000
DTSTAMP:20260422T172856
CREATED:20250707T145402Z
LAST-MODIFIED:20250709T183920Z
UID:10000045-1753167600-1753171200@www.rmhcharleston.org
SUMMARY:Sweat for a Cause
DESCRIPTION:Join us for a high-energy cycling class that gives back! Ride & Roll Cycling Studio is generously offering a free ride to all attendees on July 22nd at 7:00 AM. Sign up on their website\, attend the class\, and donate to Ronald McDonald House Charities of Charleston during your ride! \nDonate to RMHC Charleston via Venmo: @RMHC-Charleston. Please include “Sweat for a Cause” in the donation caption so we know what it’s for. \nDon’t have Venmo? You can donate on our website HERE! Just click One-Time Donation\, write in a donation\, and add the caption for us. \nRegister on the Ride & Roll App or on their website HERE. Booking will open exactly one week in advance. \nSpots are limited\, so sign up and join us in riding for a cause that matters!
URL:https://www.rmhcharleston.org/event-calendar/sweat-for-a-cause-2/
LOCATION:Ride & Roll Cycling Studio\, 1989 Maybank Highway Unit 104\, Charleston\, SC\, 29412\, United States
ATTACH;FMTTYPE=image/png:https://www.rmhcharleston.org/wp-content/uploads/Ride-Roll.png
END:VEVENT
BEGIN:VEVENT
DTSTART;TZID=America/Chicago:20250721T174500
DTEND;TZID=America/Chicago:20250721T184500
DTSTAMP:20260422T172856
CREATED:20250707T145103Z
LAST-MODIFIED:20250709T184033Z
UID:10000044-1753119900-1753123500@www.rmhcharleston.org
SUMMARY:Sweat for a Cause
DESCRIPTION:Join us for a high-energy cycling class that gives back! Ride & Roll Cycling Studio is generously offering a free ride to all attendees on July 21st at 5:45 PM. Sign up on their website\, attend the class\, and donate to Ronald McDonald House Charities of Charleston during your ride! \nDonate to RMHC Charleston via Venmo: @RMHC-Charleston. Please include “Sweat for a Cause” in the donation caption so we know what it’s for. \nDon’t have Venmo? You can donate on our website HERE! Just click One-Time Donation\, write in a donation\, and add the caption for us. \nRegister on the Ride & Roll App or on their website HERE. Booking will open exactly one week in advance. \nSpots are limited\, so sign up and join us in riding for a cause that matters!
URL:https://www.rmhcharleston.org/event-calendar/sweat-for-a-cause/
LOCATION:Ride & Roll Cycling Studio\, 1989 Maybank Highway Unit 104\, Charleston\, SC\, 29412\, United States
ATTACH;FMTTYPE=image/png:https://www.rmhcharleston.org/wp-content/uploads/Ride-Roll.png
END:VEVENT
END:VCALENDAR