BEGIN:VCALENDAR
VERSION:2.0
PRODID:-//RMHC Charleston - ECPv6.15.20//NONSGML v1.0//EN
CALSCALE:GREGORIAN
METHOD:PUBLISH
X-WR-CALNAME:RMHC Charleston
X-ORIGINAL-URL:https://www.rmhcharleston.org
X-WR-CALDESC:Events for RMHC Charleston
REFRESH-INTERVAL;VALUE=DURATION:PT1H
X-Robots-Tag:noindex
X-PUBLISHED-TTL:PT1H
BEGIN:VTIMEZONE
TZID:America/Chicago
BEGIN:DAYLIGHT
TZOFFSETFROM:-0600
TZOFFSETTO:-0500
TZNAME:CDT
DTSTART:20240310T080000
END:DAYLIGHT
BEGIN:STANDARD
TZOFFSETFROM:-0500
TZOFFSETTO:-0600
TZNAME:CST
DTSTART:20241103T070000
END:STANDARD
BEGIN:DAYLIGHT
TZOFFSETFROM:-0600
TZOFFSETTO:-0500
TZNAME:CDT
DTSTART:20250309T080000
END:DAYLIGHT
BEGIN:STANDARD
TZOFFSETFROM:-0500
TZOFFSETTO:-0600
TZNAME:CST
DTSTART:20251102T070000
END:STANDARD
BEGIN:DAYLIGHT
TZOFFSETFROM:-0600
TZOFFSETTO:-0500
TZNAME:CDT
DTSTART:20260308T080000
END:DAYLIGHT
BEGIN:STANDARD
TZOFFSETFROM:-0500
TZOFFSETTO:-0600
TZNAME:CST
DTSTART:20261101T070000
END:STANDARD
END:VTIMEZONE
BEGIN:VEVENT
DTSTART;TZID=America/Chicago:20250710T180000
DTEND;TZID=America/Chicago:20250710T210000
DTSTAMP:20260422T174345
CREATED:20250616T144343Z
LAST-MODIFIED:20250616T144343Z
UID:10000041-1752170400-1752181200@www.rmhcharleston.org
SUMMARY:Proceeds Night at Red Palm Tavern
DESCRIPTION:Join us for a fun night out at Red Palm Tavern in support of Ronald McDonald House Charities of Charleston! From 6:00 PM – 9:00 PM\, 10% of all proceeds will be donated back to the House to keep families close by. Enjoy delicious food\, refreshing drinks\, and live music while giving back to a cause that supports families with children receiving medical care. \nRed Palm Tavern previously and generously supported us during Launch Week – now’s our chance to show them some love right back!
URL:https://www.rmhcharleston.org/event-calendar/proceeds-night-at-red-palm-tavern/
LOCATION:Red Palm Tavern\, 45 Romney Street\, Charleston\, SC\, 29403\, United States
ATTACH;FMTTYPE=image/png:https://www.rmhcharleston.org/wp-content/uploads/Red-Palm.png
END:VEVENT
END:VCALENDAR