BEGIN:VCALENDAR
VERSION:2.0
PRODID:-//RMHC Charleston - ECPv6.15.20//NONSGML v1.0//EN
CALSCALE:GREGORIAN
METHOD:PUBLISH
X-ORIGINAL-URL:https://www.rmhcharleston.org
X-WR-CALDESC:Events for RMHC Charleston
REFRESH-INTERVAL;VALUE=DURATION:PT1H
X-Robots-Tag:noindex
X-PUBLISHED-TTL:PT1H
BEGIN:VTIMEZONE
TZID:America/Chicago
BEGIN:DAYLIGHT
TZOFFSETFROM:-0600
TZOFFSETTO:-0500
TZNAME:CDT
DTSTART:20240310T080000
END:DAYLIGHT
BEGIN:STANDARD
TZOFFSETFROM:-0500
TZOFFSETTO:-0600
TZNAME:CST
DTSTART:20241103T070000
END:STANDARD
BEGIN:DAYLIGHT
TZOFFSETFROM:-0600
TZOFFSETTO:-0500
TZNAME:CDT
DTSTART:20250309T080000
END:DAYLIGHT
BEGIN:STANDARD
TZOFFSETFROM:-0500
TZOFFSETTO:-0600
TZNAME:CST
DTSTART:20251102T070000
END:STANDARD
BEGIN:DAYLIGHT
TZOFFSETFROM:-0600
TZOFFSETTO:-0500
TZNAME:CDT
DTSTART:20260308T080000
END:DAYLIGHT
BEGIN:STANDARD
TZOFFSETFROM:-0500
TZOFFSETTO:-0600
TZNAME:CST
DTSTART:20261101T070000
END:STANDARD
END:VTIMEZONE
BEGIN:VEVENT
DTSTART;TZID=America/Chicago:20250815T100000
DTEND;TZID=America/Chicago:20250815T130000
DTSTAMP:20260422T172353
CREATED:20250707T152436Z
LAST-MODIFIED:20250805T150838Z
UID:10000046-1755252000-1755262800@www.rmhcharleston.org
SUMMARY:Shop & Support with Madison Mathews
DESCRIPTION:On Friday\, August 15th\, from 10:00 AM – 1:00 PM\, come out for a morning of fashion and compassion! Madison Mathews is hosting a Shop & Support event where 50% of all sales will be donated directly to Ronald McDonald House Charities of Charleston. \nWe’ll be there with a table full of information about the House\, so come say hi\, learn more\, and shop for a cause! Your purchase helps keep families close to the care their children need.
URL:https://www.rmhcharleston.org/event-calendar/shop-support-with-madison-mathews/
LOCATION:Madison Mathews\, 178 King Street\, Charleston\, SC\, 29401\, United States
ATTACH;FMTTYPE=image/png:https://www.rmhcharleston.org/wp-content/uploads/Madison-Mathews.png
END:VEVENT
END:VCALENDAR