BEGIN:VCALENDAR
VERSION:2.0
PRODID:-//RMHC Charleston - ECPv6.15.20//NONSGML v1.0//EN
CALSCALE:GREGORIAN
METHOD:PUBLISH
X-WR-CALNAME:RMHC Charleston
X-ORIGINAL-URL:https://www.rmhcharleston.org
X-WR-CALDESC:Events for RMHC Charleston
REFRESH-INTERVAL;VALUE=DURATION:PT1H
X-Robots-Tag:noindex
X-PUBLISHED-TTL:PT1H
BEGIN:VTIMEZONE
TZID:America/Chicago
BEGIN:DAYLIGHT
TZOFFSETFROM:-0600
TZOFFSETTO:-0500
TZNAME:CDT
DTSTART:20240310T080000
END:DAYLIGHT
BEGIN:STANDARD
TZOFFSETFROM:-0500
TZOFFSETTO:-0600
TZNAME:CST
DTSTART:20241103T070000
END:STANDARD
BEGIN:DAYLIGHT
TZOFFSETFROM:-0600
TZOFFSETTO:-0500
TZNAME:CDT
DTSTART:20250309T080000
END:DAYLIGHT
BEGIN:STANDARD
TZOFFSETFROM:-0500
TZOFFSETTO:-0600
TZNAME:CST
DTSTART:20251102T070000
END:STANDARD
BEGIN:DAYLIGHT
TZOFFSETFROM:-0600
TZOFFSETTO:-0500
TZNAME:CDT
DTSTART:20260308T080000
END:DAYLIGHT
BEGIN:STANDARD
TZOFFSETFROM:-0500
TZOFFSETTO:-0600
TZNAME:CST
DTSTART:20261101T070000
END:STANDARD
END:VTIMEZONE
BEGIN:VEVENT
DTSTART;TZID=America/Chicago:20250627T170000
DTEND;TZID=America/Chicago:20250627T210000
DTSTAMP:20260422T192738
CREATED:20250530T133648Z
LAST-MODIFIED:20250530T134651Z
UID:10000039-1751043600-1751058000@www.rmhcharleston.org
SUMMARY:Lemonade for a Cause at Party at the Point!
DESCRIPTION:Join RMHC Charleston for a sweet summer evening at Party at the Point on Friday\, June 27th from 5:00 PM – 9:00 PM as we host a lemonade stand to support the families who call our House their home. \nWhile you enjoy the sounds of Highway Boys\, a tribute to Zach Bryan\, stop by our stand for a refreshing cup of lemonade. Every sip helps provide comfort\, care\, and a place to stay for families with children receiving medical treatment in Charleston. \nBring your friends\, enjoy the music\, and drink for a difference! \nBuy your tickets for the party HERE!
URL:https://www.rmhcharleston.org/event-calendar/lemonade-for-a-cause-at-party-at-the-point/
LOCATION:Charleston Harbor Resort & Marina\, 20 Patriots Point Rd.\, Mount Pleasant\, SC\, 29464\, United States
ATTACH;FMTTYPE=image/png:https://www.rmhcharleston.org/wp-content/uploads/Party-at-the-Point.png
END:VEVENT
END:VCALENDAR