BEGIN:VCALENDAR
VERSION:2.0
PRODID:-//RMHC Charleston - ECPv6.15.20//NONSGML v1.0//EN
CALSCALE:GREGORIAN
METHOD:PUBLISH
X-WR-CALNAME:RMHC Charleston
X-ORIGINAL-URL:https://www.rmhcharleston.org
X-WR-CALDESC:Events for RMHC Charleston
REFRESH-INTERVAL;VALUE=DURATION:PT1H
X-Robots-Tag:noindex
X-PUBLISHED-TTL:PT1H
BEGIN:VTIMEZONE
TZID:America/Chicago
BEGIN:DAYLIGHT
TZOFFSETFROM:-0600
TZOFFSETTO:-0500
TZNAME:CDT
DTSTART:20230312T080000
END:DAYLIGHT
BEGIN:STANDARD
TZOFFSETFROM:-0500
TZOFFSETTO:-0600
TZNAME:CST
DTSTART:20231105T070000
END:STANDARD
BEGIN:DAYLIGHT
TZOFFSETFROM:-0600
TZOFFSETTO:-0500
TZNAME:CDT
DTSTART:20240310T080000
END:DAYLIGHT
BEGIN:STANDARD
TZOFFSETFROM:-0500
TZOFFSETTO:-0600
TZNAME:CST
DTSTART:20241103T070000
END:STANDARD
BEGIN:DAYLIGHT
TZOFFSETFROM:-0600
TZOFFSETTO:-0500
TZNAME:CDT
DTSTART:20250309T080000
END:DAYLIGHT
BEGIN:STANDARD
TZOFFSETFROM:-0500
TZOFFSETTO:-0600
TZNAME:CST
DTSTART:20251102T070000
END:STANDARD
END:VTIMEZONE
BEGIN:VEVENT
DTSTART;TZID=America/Chicago:20240424T160000
DTEND;TZID=America/Chicago:20240424T220000
DTSTAMP:20260421T075653
CREATED:20240311T193700Z
LAST-MODIFIED:20240318T155142Z
UID:10000004-1713974400-1713996000@www.rmhcharleston.org
SUMMARY:Benefit Night at Uncork Charleston
DESCRIPTION:Celebrate RMHC Charleston at Uncork Charleston downtown during their Benefit Night! 10% of the total proceeds for the evening will be matched and donated to help support our families at the House! All take-out sales are also included so if you cannot attend in person\, you can still help! We look forward to seeing you there! \nhttps://uncorkchs.com/
URL:https://www.rmhcharleston.org/event-calendar/benefit-night-for-rmhc-charleston-at-uncork-charleston/
LOCATION:Uncork Charleston\, 476 King St.\, Charleston\, SC\, 29403\, United States
ATTACH;FMTTYPE=image/png:https://www.rmhcharleston.org/wp-content/uploads/Uncork-Charleston-Benefit-Night.png
END:VEVENT
END:VCALENDAR